BEGIN:VCALENDAR
VERSION:2.0
PRODID:-//Nuneaton BID Ltd - ECPv6.14.2//NONSGML v1.0//EN
CALSCALE:GREGORIAN
METHOD:PUBLISH
X-WR-CALNAME:Nuneaton BID Ltd
X-ORIGINAL-URL:https://nuneatonbid.co.uk
X-WR-CALDESC:Events for Nuneaton BID Ltd
REFRESH-INTERVAL;VALUE=DURATION:PT1H
X-Robots-Tag:noindex
X-PUBLISHED-TTL:PT1H
BEGIN:VTIMEZONE
TZID:Europe/London
BEGIN:DAYLIGHT
TZOFFSETFROM:+0000
TZOFFSETTO:+0100
TZNAME:BST
DTSTART:20250330T010000
END:DAYLIGHT
BEGIN:STANDARD
TZOFFSETFROM:+0100
TZOFFSETTO:+0000
TZNAME:GMT
DTSTART:20251026T010000
END:STANDARD
END:VTIMEZONE
BEGIN:VEVENT
DTSTART;TZID=Europe/London:20250712T110000
DTEND;TZID=Europe/London:20250712T170000
DTSTAMP:20260422T062308
CREATED:20250702T080150Z
LAST-MODIFIED:20250710T113425Z
UID:1332-1752318000-1752339600@nuneatonbid.co.uk
SUMMARY:Nuneaton Food Festival
DESCRIPTION:🍽️ It’s that time of year again! 🎉 We’re excited to bring together some of the finest food and drink from both local and national traders to Nuneaton for your ultimate culinary pleasure! 🌍🍔 \nPrepare to indulge in all your favorite classics\, alongside some irresistible new offerings that will leave you coming back for more! From cannoli to cocktails\, and everything in between\, we’ve got something to satisfy every craving! 🥂🍧 \nBut the fun doesn’t stop with food! The festival will also feature kid-friendly activities to keep the little ones entertained 🎈🎨 \n📅 Mark your calendar and bring your friends\, family\, and appetite for a day of unforgettable fun at Nuneaton’s ultimate food festival! This is one event you won’t want to miss! 🍹🎉 \n 
URL:https://nuneatonbid.co.uk/event/nuneaton-food-festival/
LOCATION:Nuneaton Town Centre\, Town Centre\, Nuneaton\, United Kingdom
CATEGORIES:Food & Drink
ATTACH;FMTTYPE=image/png:https://nuneatonbid.co.uk/wp-content/uploads/2025/07/CJ-Events-Nuneaton-Food-Festival.png
ORGANIZER;CN="CJ%E2%80%99s Events Warwickshire":MAILTO:info@cjseventswarwickshire.co.uk
END:VEVENT
END:VCALENDAR