BEGIN:VCALENDAR
VERSION:2.0
PRODID:-//Nuneaton BID Ltd - ECPv6.14.2//NONSGML v1.0//EN
CALSCALE:GREGORIAN
METHOD:PUBLISH
X-ORIGINAL-URL:https://nuneatonbid.co.uk
X-WR-CALDESC:Events for Nuneaton BID Ltd
REFRESH-INTERVAL;VALUE=DURATION:PT1H
X-Robots-Tag:noindex
X-PUBLISHED-TTL:PT1H
BEGIN:VTIMEZONE
TZID:Europe/London
BEGIN:DAYLIGHT
TZOFFSETFROM:+0000
TZOFFSETTO:+0100
TZNAME:BST
DTSTART:20250330T010000
END:DAYLIGHT
BEGIN:STANDARD
TZOFFSETFROM:+0100
TZOFFSETTO:+0000
TZNAME:GMT
DTSTART:20251026T010000
END:STANDARD
END:VTIMEZONE
BEGIN:VEVENT
DTSTART;TZID=Europe/London:20251202T130000
DTEND;TZID=Europe/London:20251202T150000
DTSTAMP:20260421T214119
CREATED:20251110T125904Z
LAST-MODIFIED:20251110T125904Z
UID:3524-1764680400-1764687600@nuneatonbid.co.uk
SUMMARY:Afternoon Tea
DESCRIPTION:‘The FORD’ Community Centre are holding an Afternoon Tea with live music by Adele. \nThere will be free gifts and prizes to win. \nPre booking is essential – menu available on request
URL:https://nuneatonbid.co.uk/event/afternoon-tea/
LOCATION:The Ford Community Centre\, Haunchwood Road\, Nuneaton\, Warwickshire\, CV10 8DY\, United Kingdom
CATEGORIES:Family Fun,Food & Drink
ATTACH;FMTTYPE=image/png:https://nuneatonbid.co.uk/wp-content/uploads/2025/11/image003.png
ORGANIZER;CN="The FORD Community Centre":MAILTO:info@stockingfordcc.org
END:VEVENT
BEGIN:VEVENT
DTSTART;TZID=Europe/London:20251206T093000
DTEND;TZID=Europe/London:20251206T153000
DTSTAMP:20260421T214119
CREATED:20251204T125313Z
LAST-MODIFIED:20251204T125313Z
UID:4020-1765013400-1765035000@nuneatonbid.co.uk
SUMMARY:Festive Family Fun Day 2025
DESCRIPTION:“We’re excited announce our Festive Family Fun Day 2025 – happening on Saturday 6th December from 10am!\nWe’re so excited to welcome you into our building for a day of Christmas fun  across TWO floors! With something for the whole family to enjoy\, we’d love to have you join us.\n\nEntry to the event is free\, and there will be loads of activities to have a go at\, and our on-site cafe will be offering tasty food and drink to keep you going!\n\nWe are also offering the option to book a ticket to see Santa and receive a gift from him\, as well as receiving a packed lunch. We are charging £4 per child for these tickets (we are able to subsidize some tickets for children receiving benefits related free school meals children (rather than the universal key stage 1 FSM)  please do get in touch if you need some help with the ticket cost – proof of eligibility may be requested).”
URL:https://nuneatonbid.co.uk/event/festive-family-fun-day-2025/
LOCATION:Saints\, Newdegate Street\, Nuneaton\, Warwickshire\, CV11 4ED\, United Kingdom
CATEGORIES:Arts and Crafts,Family Fun,Food & Drink
ATTACH;FMTTYPE=image/jpeg:https://nuneatonbid.co.uk/wp-content/uploads/2025/12/Saints-Festive-Family-Fun-Day-6th-Dec-2025-small.jpg
ORGANIZER;CN="Saints Nuneaton":MAILTO:admin@saintsnuneaton.org
END:VEVENT
BEGIN:VEVENT
DTSTART;TZID=Europe/London:20251207T100000
DTEND;TZID=Europe/London:20251207T160000
DTSTAMP:20260421T214119
CREATED:20250702T103552Z
LAST-MODIFIED:20250821T080323Z
UID:1357-1765101600-1765123200@nuneatonbid.co.uk
SUMMARY:Nuneaton Indie Market
DESCRIPTION:INDIE Market\nQueens Road & Marketplace \n  \nSunday 10am – 4pm \nIndependent local businesses \n\nFood Stalls\nArts & Crafts\nHobbyists\nCharities\n\n 
URL:https://nuneatonbid.co.uk/event/nuneaton-indie-market-5/
LOCATION:Market Place\, Nuneaton Town Centre\, Market Place\, Nuneaton\, United Kingdom
CATEGORIES:Arts and Crafts,Family Fun,Food & Drink
ATTACH;FMTTYPE=image/png:https://nuneatonbid.co.uk/wp-content/uploads/2025/07/December-Nuneaton-Indie.png
END:VEVENT
BEGIN:VEVENT
DTSTART;TZID=Europe/London:20251212T150000
DTEND;TZID=Europe/London:20251212T170000
DTSTAMP:20260421T214119
CREATED:20251204T130237Z
LAST-MODIFIED:20251204T130237Z
UID:4026-1765551600-1765558800@nuneatonbid.co.uk
SUMMARY:Christmas Fair
DESCRIPTION:The CHESS Centre and Camp Hill Parish Church are organising a Christmas Fair on 12th December between 3.00pm and 5.00pm at the CHESS Centre and Camp Hill Church.
URL:https://nuneatonbid.co.uk/event/christmas-fair-2/
LOCATION:Camp Hill Church\, Cedar Road\, Nneaton\, CV10 9DN\, United Kingdom
CATEGORIES:Arts and Crafts,Family Fun,Food & Drink
ATTACH;FMTTYPE=image/jpeg:https://nuneatonbid.co.uk/wp-content/uploads/2025/12/Camp-Hill-Christmas-Fair-2025.jpg
END:VEVENT
BEGIN:VEVENT
DTSTART;TZID=Europe/London:20251218T180000
DTEND;TZID=Europe/London:20251218T210000
DTSTAMP:20260421T214119
CREATED:20251027T154827Z
LAST-MODIFIED:20251126T162605Z
UID:3219-1766080800-1766091600@nuneatonbid.co.uk
SUMMARY:Grinchfest 2025
DESCRIPTION:Attleborough Liberal Club\, Nuneaton\n\n\nFrom 6pm Thursday 18th December\n\n\nNuneaton Grinch & Max\nMatt Allen (Singer)\nDan Bridgewater (Singer)\nDisco/DJ with SBDB Entertainment\nCoventry Festival Brass Band\nThe World’s Tallest Elf\nKevin Hargrave photography\nSanta and his Elf\nSnow machines\nNuneaton & Warwickshire Wildlife Sanctuary\nFace-painter\nHot food Stall\nCoffee Vendor\nIce cream Van\nMany Market Stalls\nFull licensed Bar\nNuneaton Grinch Merchandise\nAnd more!\n\n\nAll for £2 entry fee!!!! And every penny of your entry fee going to charity!
URL:https://nuneatonbid.co.uk/event/grinchfest-2025/
LOCATION:Attleborough Liberal Club\, Bull Street\, Nuneaton
CATEGORIES:Arts and Crafts,Family Fun,Food & Drink,Fundraising
ATTACH;FMTTYPE=image/jpeg:https://nuneatonbid.co.uk/wp-content/uploads/2025/10/544733383_122250782168028418_7406335483595586210_n.jpg
END:VEVENT
BEGIN:VEVENT
DTSTART;TZID=Europe/London:20251225T123000
DTEND;TZID=Europe/London:20251225T170000
DTSTAMP:20260421T214119
CREATED:20251031T164450Z
LAST-MODIFIED:20251126T145249Z
UID:3466-1766665800-1766682000@nuneatonbid.co.uk
SUMMARY:Don't be Alone on Christmas Day
DESCRIPTION:Would you like to share Christmas Cheer? \nPlaces are limited – booking forms available from October \n*Transport available if required (Nuneaton Only) \nIncluded: 4 course meal\, Entertainment\, Gift from Santa & Good cheer! \nNO under 16’s or Alcohol \nBookings will be confirmed
URL:https://nuneatonbid.co.uk/event/dont-be-alone-on-christmas-day/
LOCATION:Nuneaton Community Christmas Lunch Group\, Newtown Centre\, Nuneaton\, CV11 4HG
CATEGORIES:Food & Drink
ATTACH;FMTTYPE=image/png:https://nuneatonbid.co.uk/wp-content/uploads/2025/10/Poster.png
END:VEVENT
END:VCALENDAR