BEGIN:VCALENDAR
VERSION:2.0
PRODID:-//Nuneaton BID Ltd - ECPv6.14.2//NONSGML v1.0//EN
CALSCALE:GREGORIAN
METHOD:PUBLISH
X-WR-CALNAME:Nuneaton BID Ltd
X-ORIGINAL-URL:https://nuneatonbid.co.uk
X-WR-CALDESC:Events for Nuneaton BID Ltd
REFRESH-INTERVAL;VALUE=DURATION:PT1H
X-Robots-Tag:noindex
X-PUBLISHED-TTL:PT1H
BEGIN:VTIMEZONE
TZID:Europe/London
BEGIN:DAYLIGHT
TZOFFSETFROM:+0000
TZOFFSETTO:+0100
TZNAME:BST
DTSTART:20260329T010000
END:DAYLIGHT
BEGIN:STANDARD
TZOFFSETFROM:+0100
TZOFFSETTO:+0000
TZNAME:GMT
DTSTART:20261025T010000
END:STANDARD
END:VTIMEZONE
BEGIN:VEVENT
DTSTART;TZID=Europe/London:20260201T093000
DTEND;TZID=Europe/London:20260201T163000
DTSTAMP:20260421T181655
CREATED:20260109T090121Z
LAST-MODIFIED:20260109T090121Z
UID:4147-1769938200-1769963400@nuneatonbid.co.uk
SUMMARY:Nuneaton Indie Market
DESCRIPTION:INDIE Market\nQueens Road & Marketplace \n  \nSunday 10am – 4pm \nIndependent local businesses \n\nFood Stalls\nArts & Crafts\nHobbyists\nCharities\n\n 
URL:https://nuneatonbid.co.uk/event/nuneaton-indie-market-6/
LOCATION:Market Place\, Nuneaton Town Centre\, Market Place\, Nuneaton\, United Kingdom
CATEGORIES:Arts and Crafts,Family Fun,Food & Drink
ATTACH;FMTTYPE=image/png:https://nuneatonbid.co.uk/wp-content/uploads/2026/01/Feb26-Nuneaton-Indie.png
END:VEVENT
BEGIN:VEVENT
DTSTART;TZID=Europe/London:20260208T150000
DTEND;TZID=Europe/London:20260208T163000
DTSTAMP:20260421T181655
CREATED:20260106T133148Z
LAST-MODIFIED:20260106T135535Z
UID:4096-1770562800-1770568200@nuneatonbid.co.uk
SUMMARY:Galentine's Glass Painting
DESCRIPTION:Sip\, style & create with your girls – Sunday 8th February \nCelebrate Galentine’s the ethereal way with an intimate glass painting workshop designed for creativity\, connection and a little luxury. Whether you’re coming with your besties or solo and ready to mingle\, this is your sign to romanticise your Sunday. \nDuring the session\, you’ll be guided step-by-step to design your own beautiful wine/champagne glass. No experience needed — just good vibes\, creativity and a love for pretty things. \n✨ What’s included:\n• All paints + materials\n• 1.5 hour workshop\n• A drink and cake \n✨ Option to upgrade to an afternoon tea✨ \n• Take-home wine glass\n• A relaxed\, boujie atmosphere \n🕰 Duration:\n1.5 hours \n🎟 Spaces are limited to keep things intimate — early booking recommended. \n 
URL:https://nuneatonbid.co.uk/event/galentines-glass-painting/
LOCATION:Boujee Cafe\, 13 Dugdale Street\, Nuneaton\, CV11 5QJ\, United Kingdom
CATEGORIES:Arts and Crafts,Backing Business,Family Fun,Food & Drink
ATTACH;FMTTYPE=image/png:https://nuneatonbid.co.uk/wp-content/uploads/2026/01/Screenshot-2026-01-06-124546.png
END:VEVENT
BEGIN:VEVENT
DTSTART;TZID=Europe/London:20260213T213000
DTEND;TZID=Europe/London:20260213T233000
DTSTAMP:20260421T181655
CREATED:20260202T141018Z
LAST-MODIFIED:20260202T141018Z
UID:4528-1771018200-1771025400@nuneatonbid.co.uk
SUMMARY:Valentine’s Baby Brunch
DESCRIPTION:NUNEATON VALENTINE’S BABY BRUNCH \nWe have reserved a large space at Piero Lounge in Nuneaton to celebrate\, meet and enjoy a Valentine’s themed brunch with other local mamas! They are such gorgeous mornings and I guarantee you will love it! Love will certainly be in the air! \nYour ticket (children go free!) includes: \n-Unlimited Tea/Coffee/Water/juice \n-A delicious\, freshly made brunch option (choose on form. For more detail\, see the Piero Lounge website- message me if you want something specific!) Piero Lounge can cater for specific dietary requirements too. \n-Access to local leaflets \n-Softplay/Activities provided \n-Valentine’s baby paint keepsake craft activity \n-️A gorgeous Valentine’s themed mini photoshoot opportunity with Zoe Harris \n-Usborne books stall by Chloe’s Cosy Corner. \n-Freebies from me \nThere are baby changing facilities\, highchairs and parking options nearby. There will also be weighing scales\, baby mats and of course wonderful like-minded company to meet and make new friends! \nGrab your ticket before they sell out and I look forward to seeing you there! \nMelanie x \n*Please Note: This event is most suitable for babies and pre walkers 0-2 because of the setting that we are in… however you are more than welcome to bring older toddlers too – we have the soft play and Piero can provide children’s menus and colouring activities for them!*
URL:https://nuneatonbid.co.uk/event/valentines-baby-brunch/
LOCATION:Piero Lounge\, Market Place\, Nuneaton
CATEGORIES:Family Fun,Food & Drink
ATTACH;FMTTYPE=image/jpeg:https://nuneatonbid.co.uk/wp-content/uploads/2026/01/IMG_9260-2f267281f8fde96ce37078143b70ee1b.jpeg
END:VEVENT
END:VCALENDAR