BEGIN:VCALENDAR
VERSION:2.0
PRODID:-//Nuneaton BID Ltd - ECPv6.14.2//NONSGML v1.0//EN
CALSCALE:GREGORIAN
METHOD:PUBLISH
X-ORIGINAL-URL:https://nuneatonbid.co.uk
X-WR-CALDESC:Events for Nuneaton BID Ltd
REFRESH-INTERVAL;VALUE=DURATION:PT1H
X-Robots-Tag:noindex
X-PUBLISHED-TTL:PT1H
BEGIN:VTIMEZONE
TZID:Europe/London
BEGIN:DAYLIGHT
TZOFFSETFROM:+0000
TZOFFSETTO:+0100
TZNAME:BST
DTSTART:20260329T010000
END:DAYLIGHT
BEGIN:STANDARD
TZOFFSETFROM:+0100
TZOFFSETTO:+0000
TZNAME:GMT
DTSTART:20261025T010000
END:STANDARD
END:VTIMEZONE
BEGIN:VEVENT
DTSTART;TZID=Europe/London:20260130T000000
DTEND;TZID=Europe/London:20260130T000000
DTSTAMP:20260421T192154
CREATED:20260130T104906Z
LAST-MODIFIED:20260130T104906Z
UID:4447-1769731200-1769731200@nuneatonbid.co.uk
SUMMARY:RUN LEICESTER 10K FOR GEORGE ELIOT HOSPITAL CHARITY
DESCRIPTION:**SECURE YOUR FREE PLACE TODAY**We still have a limited number of FREE places available for the Leicester 10K on Sunday\, 1 March 2026.Sign up to take on a new challenge in 2026 and you’ll receive a FREE race place plus a FREE George Eliot Hospital Charity running t-shirt to wear with pride. Whether you’re walking\, jogging\, or running\, we’d love you to join Team GEH Charity.Email gehcharity@geh.nhs.uk to secure your place. Everyone is welcome!
URL:https://nuneatonbid.co.uk/event/run-leicester-10k-for-george-eliot-hospital-charity/
LOCATION:LEICESTER CITY CENTRE
CATEGORIES:Sport Events
ATTACH;FMTTYPE=image/png:https://nuneatonbid.co.uk/wp-content/uploads/2026/01/Leicester-10K-Christian-ecabd0cdb3a168a9eaeb5ea1d1e4b10e.png
END:VEVENT
END:VCALENDAR